BEGIN:VCALENDAR
VERSION:2.0
PRODID:-//peccioli.net - ECPv5.8.1//NONSGML v1.0//EN
CALSCALE:GREGORIAN
METHOD:PUBLISH
X-WR-CALNAME:peccioli.net
X-ORIGINAL-URL:https://www.peccioli.net
X-WR-CALDESC:Eventi per peccioli.net
BEGIN:VTIMEZONE
TZID:Europe/Rome
BEGIN:DAYLIGHT
TZOFFSETFROM:+0100
TZOFFSETTO:+0200
TZNAME:CEST
DTSTART:20220327T010000
END:DAYLIGHT
BEGIN:STANDARD
TZOFFSETFROM:+0200
TZOFFSETTO:+0100
TZNAME:CET
DTSTART:20221030T010000
END:STANDARD
END:VTIMEZONE
BEGIN:VEVENT
DTSTART;TZID=Europe/Rome:20220602T211500
DTEND;TZID=Europe/Rome:20220602T233000
DTSTAMP:20260423T084640
CREATED:20220524T105850Z
LAST-MODIFIED:20220524T105850Z
UID:5776-1654204500-1654212600@www.peccioli.net
SUMMARY:Concerto per la Festa della Repubblica
DESCRIPTION:In occasione della “Festa della Repubblica” l’Orchestra Giovanile Toscana presenta il “Concerto per la Repubblica” in collaborazione con Fondazione Peccioliper e Accademia Musicale Alta Valdera.\n L’appuntamento è quindi per giovedì 2 giugno alle ore 21.15 presso il Cinema Passerotti a Peccioli. \nIl tema della serata è “L’Ellenismo in musica” sulle composizioni di Rossini\, Schubert e Mozart\, direttore Lorenzo Biagi.\nL’ingresso è libero fino a esaurimento posti. Per maggiori informazioni: orchestragiovaniletoscana.com 
URL:https://www.peccioli.net/event/concerto-per-la-festa-della-repubblica/
CATEGORIES:Eventi culturali,Musica e concerti
ATTACH;FMTTYPE=image/jpeg:https://www.peccioli.net/wp-content/uploads/sites/3/2022/05/concerto-2-giugno.jpg
END:VEVENT
END:VCALENDAR