BEGIN:VCALENDAR
VERSION:2.0
PRODID:-//peccioli.net - ECPv5.8.1//NONSGML v1.0//EN
CALSCALE:GREGORIAN
METHOD:PUBLISH
X-WR-CALNAME:peccioli.net
X-ORIGINAL-URL:https://www.peccioli.net
X-WR-CALDESC:Eventi per peccioli.net
BEGIN:VTIMEZONE
TZID:Europe/Rome
BEGIN:DAYLIGHT
TZOFFSETFROM:+0100
TZOFFSETTO:+0200
TZNAME:CEST
DTSTART:20210328T010000
END:DAYLIGHT
BEGIN:STANDARD
TZOFFSETFROM:+0200
TZOFFSETTO:+0100
TZNAME:CET
DTSTART:20211031T010000
END:STANDARD
END:VTIMEZONE
BEGIN:VEVENT
DTSTART;TZID=Europe/Rome:20210717T180000
DTEND;TZID=Europe/Rome:20210717T220000
DTSTAMP:20260425T182645
CREATED:20210517T103152Z
LAST-MODIFIED:20210528T134950Z
UID:4407-1626544800-1626559200@www.peccioli.net
SUMMARY:La notte dei giganti - Eco Run
DESCRIPTION:Una corsa podistica (EcoRun) con percorso in ambiente urbano e boschivo che si svolgerà in modalità agonistica e ludico motoria\, con partenza al tramonto dall’ Impianto Belvedere e arrivo nel paese di Peccioli. \nSono previste: \n\nuna gara agonistica di 13 Km;\nuna marcia ludico-motoria di 13 Km.\nDagli impianti della Belvedere s.p.a. attraversando il borgo di Libbiano\, la proprietà Biscottini e rientrando in Peccioli dopo aver lambito la Madonna delle Serre e il Teatro;\nuna marcia ludico-motoria e camminata di 7 Km.\nNel percorso più corto si parte e si arriva nel paese di Peccioli\, raggiungendo lungo il tragitto la Madonna delle Serre e rientrando dal percorso della gara lunga.\n\nInfo e regolamento su www.nottedeigiganti.com
URL:https://www.peccioli.net/event/la-notte-dei-giganti-eco-run/
LOCATION:Impianto Belvedere S.p.A. – Legoli\, Triangolo Verde Belvedere\, Peccioli\, 56037\, Italia
CATEGORIES:Sport
ATTACH;FMTTYPE=image/jpeg:https://www.peccioli.net/wp-content/uploads/sites/3/2021/05/Image00009.jpg
END:VEVENT
END:VCALENDAR