BEGIN:VCALENDAR
VERSION:2.0
PRODID:-//peccioli.net - ECPv5.8.1//NONSGML v1.0//EN
CALSCALE:GREGORIAN
METHOD:PUBLISH
X-WR-CALNAME:peccioli.net
X-ORIGINAL-URL:https://www.peccioli.net
X-WR-CALDESC:Eventi per peccioli.net
BEGIN:VTIMEZONE
TZID:Europe/Rome
BEGIN:DAYLIGHT
TZOFFSETFROM:+0100
TZOFFSETTO:+0200
TZNAME:CEST
DTSTART:20210328T010000
END:DAYLIGHT
BEGIN:STANDARD
TZOFFSETFROM:+0200
TZOFFSETTO:+0100
TZNAME:CET
DTSTART:20211031T010000
END:STANDARD
END:VTIMEZONE
BEGIN:VEVENT
DTSTART;VALUE=DATE:20210719
DTEND;VALUE=DATE:20210728
DTSTAMP:20260423T165743
CREATED:20210609T130152Z
LAST-MODIFIED:20210618T061619Z
UID:5069-1626652800-1627430399@www.peccioli.net
SUMMARY:11Lune edizione 2021  |  19 luglio: Francesco Renga  -  27 luglio: Giusy Ferreri
DESCRIPTION:Doppio concerto all’Anfiteatro di Fonte Mazzola per l’edizione 2021 del Festival delle 11Lune \nLunedi 19 luglio si terrà il concerto di Francesco Renga mentre martedì 27 luglio sarà la volta di Giusy Ferreri. \nINFO E BIGLIETTI\nCONCERTO FRANCESCO RENGA\nPosto unico poltroncina non numerata (n. 4 biglietti massimo per ciascun acquirente)\n30 € intero\n25 € ridotto per residenti a Peccioli\n20 € ridotto detentori Card “Amici del Polo Museale di Peccioli”\, soci Belvedere e minorenni \nGratuito per disabili e un accompagnatore (prenotazione obbligatoria) e per bambini fino a 3 anni (nella stessa seduta del genitore) \nCONCERTO GIUSY FERRERI\nPosto unico poltroncina non numerata (n. 4 biglietti massimo per ciascun acquirente)\n25 € intero\n20 € ridotto per residenti a Peccioli\n15 € ridotto detentori Card “Amici del Polo Museale di Peccioli”\, soci Belvedere e minorenni \nGratuito per disabili e un accompagnatore (prenotazione obbligatoria) e per bambini fino a 3 anni (nella stessa seduta del genitore) \nACQUISTO BIGLIETTI\nSarà possibile acquistare i biglietti di Francesco Renga e Giusy Ferreri presso la biglietteria della Rassegna da venerdì 18 giugno ore 10 (senza costi di prevendita)\, in uno dei punti vendita Vivaticket e TicketOne\, oppure su www.vivaticket.com e www.ticketone.it da venerdì 18 giugno ore 12 \n 
URL:https://www.peccioli.net/event/19-luglio-francesco-renga-27-luglio-giusy-ferreri-11lune-edizione-2021/
LOCATION:Anfiteatro Fonte Mazzola\, Peccioli\, PI\, Italia
CATEGORIES:11 Lune a Peccioli,Musica e concerti
ATTACH;FMTTYPE=image/png:https://www.peccioli.net/wp-content/uploads/sites/3/2021/06/06-ferreri-renga.png
END:VEVENT
BEGIN:VEVENT
DTSTART;VALUE=DATE:20210723
DTEND;VALUE=DATE:20210801
DTSTAMP:20260423T165743
CREATED:20210615T065653Z
LAST-MODIFIED:20210722T095212Z
UID:5093-1626998400-1627775999@www.peccioli.net
SUMMARY:11 Lune a Peccioli - Luglio 2021 - Musica\, Teatro\, Eventi
DESCRIPTION:Programma delle 11 Lune a Peccioli 2021\n\n01/07 Ore 18\,30 – Inaugurazione del Palazzo senza Tempo\n04/07 Ore 21\,30 – Storie della  buonanotte per bambine ribelli – Orchestra Multietnica di Arezzo\n05/07 Ore 21\,30 – Vittoria Puccini in Greta | Nell’ambito di Festivaldera\n08/07 Ore 21\,30 – Marco d’Amore in Salvo | Nell’ambito di Festivaldera\n12/07 Ore 21\,30 – Toni Servillo in Candido | Anfiteatro Triangolo Verde\, Legoli | Nell’ambito di Festivaldera\n14/07 Ore 21\,30 – Luca Sofri\, direttore del Post\, dialoga con Claudio Cerasa\, direttore del Foglio\n17/07 Ore 20\,30 – La notte dei giganti – Eco run & walk in notturna\n19/07 Ore 21\,30 – Francesco Renga | Spettacolo a pagamento\n23/07 Ore 21\,30 – Tutto l’amore di cui siamo capaci di Michele Santeramo con Lorenzo Gioielli e Greta Bendinelli\n26/07 Ore 21\,00 – Le notti dell’archeologia. Santa Mustiola\, tra scavo e museo | Ghizzano\, Colle Mustarola\n27/07 Ore 21\,30 – Giusi Ferreri | Spettacolo a pagamento\n30/07 Ore 21\,30 – La donna volubile di Carlo Goldoni\n\nGli eventi si terranno all’Anfiteatro di Fonte Mazzola\, con ingresso gratuito\, eccetto dove esplicitamente indicato.\nPer gli eventi gratuiti non è necessaria la prenotazione. \nBIGLIETTERIA DELLA RASSEGNA\nPiazza del Popolo 5\, Peccioli (PI)\nmartedì dalle ore 9 alle 13\nmercoledì dalle 15 alle 19\ngiovedì e venerdì dalle ore 10 alle ore 13\nsabato e domenica dalle ore 10 alle 13 e dalle 14 alle 19\nTel. 0587 672158 – 0587 936423\ninfo@fondarte.peccioli.net \nEventi a pagamento o in abbonamento\nCONCERTO FRANCESCO RENGA\nPosto unico poltroncina non numerata (n. 4 biglietti massimo per ciascun acquirente)\n30 € intero\n25 € ridotto per residenti a Peccioli\n20 € ridotto detentori Card “Amici del Polo Museale di Peccioli”\, soci Belvedere e minorenni \nGratuito per disabili e un accompagnatore (prenotazione obbligatoria) e per bambini fino a 3 anni (nella stessa seduta del genitore) \nCONCERTO GIUSY FERRERI\nPosto unico poltroncina non numerata (n. 4 biglietti massimo per ciascun acquirente)\n25 € intero\n20 € ridotto per residenti a Peccioli\n15 € ridotto detentori Card “Amici del Polo Museale di Peccioli”\, soci Belvedere e minorenni \nGratuito per disabili e un accompagnatore (prenotazione obbligatoria) e per bambini fino a 3 anni (nella stessa seduta del genitore) \nACQUISTO BIGLIETTI\nSarà possibile acquistare i biglietti di Francesco Renga e Giusy Ferreri presso la biglietteria della Rassegna da venerdì 18 giugno ore 10 (senza costi di prevendita)\, in uno dei punti vendita Vivaticket e TicketOne\, oppure su www.vivaticket.com e www.ticketone.it da venerdì 18 giugno ore 12 \nVITTORIA PUCCINI in GRETA\nPer biglietti e info www.festivaldera.it \nMARCO D’AMORE in SALVO\nPer biglietti e info www.festivaldera.it \nTONI SERVILLO in CANDIDO\nEvento riservato agli abbonati Festivaldera o su invito. Per info www.festivaldera.it \nL’abbonamento è acquistabile dal 17 giugno alle ore 15.00 presso la biglietteria del Teatro Era – Pontedera\nI singoli biglietti saranno in vendita dal 17 giugno alle ore 15.00 online su www.festivaldera.it\, nei punti vendita ticketone\, presso la biglietteria del Teatro Era e\, se ancora disponibili\, alla biglietteria la sera stessa di spettacolo.
URL:https://www.peccioli.net/event/11-lune-a-peccioli-luglio-2021-musica-teatro-eventi/
LOCATION:Anfiteatro Fonte Mazzola\, Peccioli\, PI\, Italia
CATEGORIES:11 Lune a Peccioli
ATTACH;FMTTYPE=image/jpeg:https://www.peccioli.net/wp-content/uploads/sites/3/2021/06/11Lune-e1718703359736.jpg
END:VEVENT
BEGIN:VEVENT
DTSTART;TZID=Europe/Rome:20210726T210000
DTEND;TZID=Europe/Rome:20210726T230000
DTSTAMP:20260423T165743
CREATED:20210618T062903Z
LAST-MODIFIED:20210618T063142Z
UID:5118-1627333200-1627340400@www.peccioli.net
SUMMARY:Le Notti dell'Archeologia
DESCRIPTION:L’area archeologica di Santa Mustiola: una storia che attraversa i secoli\nVisita guidata al sito archeologico \nLunedì 26 luglio ore 21.00\, Ghizzano\, Colle Mustarola \nPrenotazione obbligatoria telefonando allo 0587 672158 \nTornano come ogni estate le “Notti dell’Archeologia”\, iniziativa regionale per la valorizzazione dei luoghi della cultura\, a cui il Comune di Peccioli aderisce con l’apertura in notturna dell’Area Archeologica di Santa Mustiola\, loc. Colle Mustarola – Peccioli (PI). \nLe indagini archeologiche\, che da molti anni stanno restituendo reperti di notevole importanza a livello locale e nazionale\, sorge su un piccolo colle che conserva i resti di insediamenti umani a partire dal I secolo d.C. Importante ed inaspettata è stata la scoperta\, sul pendio della collina\, di una cisterna di età romana funzionale a garantire il rifornimento d’acqua ad un piccolo abitato posto ai suoi piedi. Si tratta di un unicum in ambiente rurale per i nostri territori\, probabilmente legato alla sfera di influenza della città di Volaterrae per il controllo della viabilità commerciale verso il sud della Toscana e Roma. Sull’apice del colle\, invece\, sono venuti alla luce alcuni tratti di mura pertinenti ad almeno due edifici relativi a fasi insediative diverse. Il colle fu occupato per scopi strategico-militari dai Longobardi che\, agli inizi del VII secolo\, conquistarono i territori bizantini di Volterra. E’ probabile che alcune strutture costruite in questa fase siano state poi riutilizzate successivamente nella fondazione della chiesa\, attestata almeno dagli inizi dell’XI secolo\, che fu dedicata a Santa Mustiola. Attorno all’edificio sacro è in corso di scavo il cimitero che ospita numerose sepolture\, molte delle quali hanno restituito importanti e ricchi corredi\, come quello di “Isadora” esposto al Museo Archeologico di Peccioli. \nLe indagini archeologiche\, condotte dalla Fondazione Peccioli Per l’Arte in concessione ministeriale e finanziate da Comune di Peccioli e Belvedere S.p.A.\, sono in corso per la campagna 2021 e andranno avanti fino al 19 settembre. \nNegli ultimi due anni l’area archeologica\, pur continuando ad essere interessata dal cantiere di scavo\, è stata resa visitabile attraverso un percorso guidato che permette l’osservazione della cisterna romana\, completamente restaurata\, dei resti della chiesa di Santa Mustiola e delle sepolture del suo cimitero\, nonché degli archeologici al lavoro all’interno dell’area di scavo.
URL:https://www.peccioli.net/event/le-notti-dellarcheologia/
LOCATION:Ghizzano\, Colle Mustarola\, Ghizzano\, Pisa\, Italia
CATEGORIES:11 Lune a Peccioli,Eventi culturali,Per bambini e famiglie
ATTACH;FMTTYPE=image/jpeg:https://www.peccioli.net/wp-content/uploads/sites/3/2021/06/67-notti-archeologia-11.jpg
END:VEVENT
END:VCALENDAR