BEGIN:VCALENDAR
VERSION:2.0
PRODID:-//peccioli.net - ECPv5.8.1//NONSGML v1.0//EN
CALSCALE:GREGORIAN
METHOD:PUBLISH
X-WR-CALNAME:peccioli.net
X-ORIGINAL-URL:https://www.peccioli.net
X-WR-CALDESC:Eventi per peccioli.net
BEGIN:VTIMEZONE
TZID:Europe/Rome
BEGIN:DAYLIGHT
TZOFFSETFROM:+0100
TZOFFSETTO:+0200
TZNAME:CEST
DTSTART:20220327T010000
END:DAYLIGHT
BEGIN:STANDARD
TZOFFSETFROM:+0200
TZOFFSETTO:+0100
TZNAME:CET
DTSTART:20221030T010000
END:STANDARD
END:VTIMEZONE
BEGIN:VEVENT
DTSTART;VALUE=DATE:20220513
DTEND;VALUE=DATE:20220516
DTSTAMP:20260419T224042
CREATED:20220421T081123Z
LAST-MODIFIED:20220513T123347Z
UID:5253-1652400000-1652659199@www.peccioli.net
SUMMARY:Pensavo Peccioli 13 - 15 Maggio 2022
DESCRIPTION:Cosa sta succedendo a noi e al mondo? Una domanda che in tanti si pongono. \nPer rispondere a questo dubbio e cercare una chiave di lettura del periodo che stiamo vivendo dal 13 al 15 maggio 2022 scrittrici e scrittori\, scienziate\, politici\, giornaliste\, giornalisti e artisti si ritrovano a Peccioli per la nuova edizione di Pensavo Peccioli\, festival nato per discutere nel contesto di un borgo toscano fortemente proiettato verso il futuro i cambiamenti in atto. Il programma è a cura di Luca Sofri e l’organizzazione della Fondazione Peccioliper. \nL’edizione 2022 vede tra gli ospiti Michela Murgia\, Paolo Virzì\, Maurizio de Giovanni\, Marino Sinibaldi\, Malika Ayane\, Giorgio Gori\, Cecilia Sala\, Chiara Valerio\, Antonio Manzini\, Luca De Gennaro\, Giada Messetti\, Ilaria Capua\, Giacomo Papi\, Adriano Sofri\, Andrea Pennacchi\, Franco Pagetti\, Riccardo Burchielli\, Antonio Franchini\, Federica Salto\, Michele Battini\, Gigi Riva\, Nicola Savino. \nUna lettura particolare dell’oggi è proposta dalla mostra “Tutte le guerre. Fotografie 1998-2019” di Franco Pagetti\, uno dei più apprezzati fotoreporter internazionali che ha seguito alcune delle guerre recenti più lunghe e gravi. La mostra\, inaugurata nelle sale del Palazzo Senza Tempo di Peccoli in occasione della kermesse\, proseguirà fino al 30 settembre. \nTra le proposte di Pensavo Peccioli anche il laboratorio di scrittura creativa “Cosa significa raccontare” tenuto da Giacomo Papi\, scrittore e direttore del Laboratorio Formentini per l’Editoria di Milano. Il corso\, adatto a tutti i livelli di preparazione\, parte dalla lettura per arrivare alla scrittura e all’identificazione di uno stile personale di ogni partecipante (iscrizioni sul sito del festival). \n 
URL:https://www.peccioli.net/event/pensavo-peccioli-13-15-maggio-2022/
LOCATION:PI
CATEGORIES:Eventi culturali,Eventi e mostre
ATTACH;FMTTYPE=image/jpeg:https://www.peccioli.net/wp-content/uploads/sites/3/2022/04/Pen.jpg
END:VEVENT
BEGIN:VEVENT
DTSTART;VALUE=DATE:20220513
DTEND;VALUE=DATE:20220516
DTSTAMP:20260419T224042
CREATED:20220503T104731Z
LAST-MODIFIED:20220503T104731Z
UID:5565-1652400000-1652659199@www.peccioli.net
SUMMARY:Temporary BookStore
DESCRIPTION:Dopo il grande successo riscosso delle precedenti edizioni dell’iniziativa “A Natale libri per te”\, torna in occasione di Pensavo Peccioli il “#temporarystore di librerie” con l’obiettivo di incentivare la lettura e al tempo stesso sostenere le librerie del territorio. \nDal 13 al 15 maggio presso il Palazzo Senza Tempo verrà allestito un temporary store con 8 librerie di zona e la casa editrice Tagete Edizioni\, dove i cittadini pecciolesi e i cittadini dei comuni vicini (Lajatico\, Terricciola\, Capannoli\, Palaia\, Casciana Terme Lari\, Chianni\, Ponsacco\, Pontedera) potranno acquistare libri con un sostegno da parte del Comune di Peccioli e della Fondazione pari al 25%.\nHanno aderito al progetto:\n– Cartolibreria Fiorentini di Peccioli\n– Libreria Carrara di Pontedera\n– Libreria Roma – Ubik Pontedera\n– Libreria Equilibri di Pontedera\n– Libreria Fogola Pisa\n– Cartolibreria Scripta Manent de La Rosa\n– Libreria Blume di Fucecchio\n– Libreria Colibrì di Santa Croce\n– Tagete Edizioni \nOrari di apertura:\nvenerdì dalle 15 alle 19\nsabato e domenica dalle 10 alle 13 e dalle 15 alle 19
URL:https://www.peccioli.net/event/temporary-bookstore/
LOCATION:Palazzo Senza Tempo\, Via Carraia 1\, Peccioli\, PI\, Italia
CATEGORIES:Eventi culturali,Eventi e mostre
ATTACH;FMTTYPE=image/jpeg:https://www.peccioli.net/wp-content/uploads/sites/3/2022/05/Book-store.jpg
END:VEVENT
END:VCALENDAR