BEGIN:VCALENDAR
VERSION:2.0
PRODID:-//peccioli.net - ECPv5.8.1//NONSGML v1.0//EN
CALSCALE:GREGORIAN
METHOD:PUBLISH
X-WR-CALNAME:peccioli.net
X-ORIGINAL-URL:https://www.peccioli.net
X-WR-CALDESC:Eventi per peccioli.net
BEGIN:VTIMEZONE
TZID:Europe/Rome
BEGIN:DAYLIGHT
TZOFFSETFROM:+0100
TZOFFSETTO:+0200
TZNAME:CEST
DTSTART:20220327T010000
END:DAYLIGHT
BEGIN:STANDARD
TZOFFSETFROM:+0200
TZOFFSETTO:+0100
TZNAME:CET
DTSTART:20221030T010000
END:STANDARD
END:VTIMEZONE
BEGIN:VEVENT
DTSTART;VALUE=DATE:20220526
DTEND;VALUE=DATE:20220527
DTSTAMP:20260420T155848
CREATED:20220517T103140Z
LAST-MODIFIED:20220517T103140Z
UID:5628-1653523200-1653609599@www.peccioli.net
SUMMARY:E siamo ancora qua
DESCRIPTION:Il Progetto Energie Sociali che coinvolge il mondo delle associazioni dei Comuni di Peccioli e Lajatico presenta l’iniziativa “E siamo ancora qua” \n“Tra pandemia e guerra: quale futuro insieme?” Ne parleremo con Ivo Lizzola docente di Pedagogia Sociale presso l’Università degli Studi di Bergamo \nLa serata è promossa dalla Filarmonica di Peccioli in collaborazione con la Belvedere S.p.A. e con la partecipazione della Corale Valdera e di La Rondine Danza \nL’appuntamento è per giovedì 26 maggio alle ore 21.15 al Triangolo Verde di Legoli
URL:https://www.peccioli.net/event/e-siamo-ancora-qua/
LOCATION:Legoli
CATEGORIES:Eventi culturali,Musica e concerti
ATTACH;FMTTYPE=image/jpeg:https://www.peccioli.net/wp-content/uploads/sites/3/2022/05/2022.05.26-Invito_Pagina_1-scaled.jpg
END:VEVENT
END:VCALENDAR