BEGIN:VCALENDAR
VERSION:2.0
PRODID:-//peccioli.net - ECPv5.8.1//NONSGML v1.0//EN
CALSCALE:GREGORIAN
METHOD:PUBLISH
X-WR-CALNAME:peccioli.net
X-ORIGINAL-URL:https://www.peccioli.net
X-WR-CALDESC:Eventi per peccioli.net
BEGIN:VTIMEZONE
TZID:Europe/Rome
BEGIN:DAYLIGHT
TZOFFSETFROM:+0100
TZOFFSETTO:+0200
TZNAME:CEST
DTSTART:20220327T010000
END:DAYLIGHT
BEGIN:STANDARD
TZOFFSETFROM:+0200
TZOFFSETTO:+0100
TZNAME:CET
DTSTART:20221030T010000
END:STANDARD
END:VTIMEZONE
BEGIN:VEVENT
DTSTART;VALUE=DATE:20220529
DTEND;VALUE=DATE:20220530
DTSTAMP:20260423T050631
CREATED:20220527T102407Z
LAST-MODIFIED:20220527T103757Z
UID:5794-1653782400-1653868799@www.peccioli.net
SUMMARY:Più Sicuri Insieme
DESCRIPTION:Proseguono gli eventi organizzati dalle “Energie Sociali”\, progetto che coinvolge le associazioni dei comuni di Peccioli e Lajatico. \nDomenica 29 maggio vi aspettiamo per il terzo evento promosso dal Gruppo Giovanile Legoli! \nAlle ore 11 presso il Ristorante “Da Pasquino”  l’incontro con il Maresciallo dell’Arma dei Carabinieri di Peccioli che spiegherà ai presenti come difendersi dalle truffe domestiche di cui\, purtroppo\, sempre più spesso sentiamo parlare. \nAlle ore 12.30 il pranzo tutti insieme con menu fisso a € 15\,00 e\, nel pomeriggio\, la Corale Valdera terrà un concerto di canti popolari. \nPrenotazione obbligatoria al numero 353 4392793 \n 
URL:https://www.peccioli.net/event/piu-sicuri-insieme/
LOCATION:PI
CATEGORIES:Eventi culturali,Musica e concerti
ATTACH;FMTTYPE=image/jpeg:https://www.peccioli.net/wp-content/uploads/sites/3/2022/05/piu-sicuri-insieme.jpg
END:VEVENT
END:VCALENDAR