BEGIN:VCALENDAR
VERSION:2.0
PRODID:-//peccioli.net - ECPv5.8.1//NONSGML v1.0//EN
CALSCALE:GREGORIAN
METHOD:PUBLISH
X-WR-CALNAME:peccioli.net
X-ORIGINAL-URL:https://www.peccioli.net
X-WR-CALDESC:Eventi per peccioli.net
BEGIN:VTIMEZONE
TZID:Europe/Rome
BEGIN:DAYLIGHT
TZOFFSETFROM:+0100
TZOFFSETTO:+0200
TZNAME:CEST
DTSTART:20230326T010000
END:DAYLIGHT
BEGIN:STANDARD
TZOFFSETFROM:+0200
TZOFFSETTO:+0100
TZNAME:CET
DTSTART:20231029T010000
END:STANDARD
END:VTIMEZONE
BEGIN:VEVENT
DTSTART;VALUE=DATE:20230304
DTEND;VALUE=DATE:20230305
DTSTAMP:20260420T104756
CREATED:20230217T101948Z
LAST-MODIFIED:20230217T131549Z
UID:8367-1677888000-1677974399@www.peccioli.net
SUMMARY:Passione con Maurizio De Giovanni
DESCRIPTION:Sabato 4 marzo alle 21 al Cinema Passerotti vanno in scena Maurizio de Giovanni e Marco Zurzolo al sax.\nSul palco a loro fianco ci saranno Marianita Carfora alla voce\, Carlo Fimiani alla chitarra e Marco de Tilla al contrabbasso.\n\n“Passione” è un viaggio nella storia della canzone napoletana\, un viaggio che racconta dei suoi autori\, attraverso le loro storie\, i loro sentimenti che sono la radice della loro poetica che\, incontrando la musica\, hanno creato dei veri e propri capolavori conosciuti in tutto il mondo.\nQuesto progetto è un omaggio alla musica napoletana e ai suoi autori e nasce dalla voglia di condividerne la poesia e la magia che rende infinitamente grato e orgoglioso chiunque sia nato in questa meravigliosa terra.\n\n\nIngresso libero con prenotazione obbligatoria.\nPer informazioni e prenotazioni 0587 672158\, info@fondarte.peccioli.net
URL:https://www.peccioli.net/event/passioni-con-maurizio-die-giovanni/
LOCATION:PI
CATEGORIES:Eventi culturali,Musica e concerti,Per bambini e famiglie
ATTACH;FMTTYPE=image/jpeg:https://www.peccioli.net/wp-content/uploads/sites/3/2023/02/c720d7be-bfb7-4180-8ea9-09eb5bc32fa2.jpg
END:VEVENT
END:VCALENDAR