BEGIN:VCALENDAR
VERSION:2.0
PRODID:-//peccioli.net - ECPv5.8.1//NONSGML v1.0//EN
CALSCALE:GREGORIAN
METHOD:PUBLISH
X-WR-CALNAME:peccioli.net
X-ORIGINAL-URL:https://www.peccioli.net
X-WR-CALDESC:Eventi per peccioli.net
BEGIN:VTIMEZONE
TZID:Europe/Rome
BEGIN:DAYLIGHT
TZOFFSETFROM:+0100
TZOFFSETTO:+0200
TZNAME:CEST
DTSTART:20250330T010000
END:DAYLIGHT
BEGIN:STANDARD
TZOFFSETFROM:+0200
TZOFFSETTO:+0100
TZNAME:CET
DTSTART:20251026T010000
END:STANDARD
END:VTIMEZONE
BEGIN:VEVENT
DTSTART;VALUE=DATE:20251231
DTEND;VALUE=DATE:20260101
DTSTAMP:20260426T045701
CREATED:20251223T142854Z
LAST-MODIFIED:20251223T163333Z
UID:10635-1767139200-1767225599@www.peccioli.net
SUMMARY:Festa di Capodanno 2026
DESCRIPTION:A Peccioli la serata per salutare il 2025 inizia alle ore 22.30 in Piazza del Popolo\, con musica\, intrattenimento e il gruppo 80 Voglia Band. \nAllo scoccare della mezzanotte i tanto attesi fuochi d’artificio\, che saranno visibili dalla terrazza del Palazzo Senza Tempo. \n  \nL’ingresso è gratuito ed è previsto il servizio navetta da e per il parcheggio scambiatore in via Silvestro Lega\, dalle ore 21 con ultima corsa alle 2.
URL:https://www.peccioli.net/event/festa-di-capodanno-2026/
LOCATION:Peccioli\, Italia
ATTACH;FMTTYPE=image/jpeg:https://www.peccioli.net/wp-content/uploads/sites/3/2025/12/capodanno-2026.jpg
END:VEVENT
END:VCALENDAR