BEGIN:VCALENDAR
VERSION:2.0
PRODID:-//peccioli.net - ECPv5.8.1//NONSGML v1.0//EN
CALSCALE:GREGORIAN
METHOD:PUBLISH
X-WR-CALNAME:peccioli.net
X-ORIGINAL-URL:https://www.peccioli.net
X-WR-CALDESC:Eventi per peccioli.net
BEGIN:VTIMEZONE
TZID:Europe/Rome
BEGIN:DAYLIGHT
TZOFFSETFROM:+0100
TZOFFSETTO:+0200
TZNAME:CEST
DTSTART:20190331T010000
END:DAYLIGHT
BEGIN:STANDARD
TZOFFSETFROM:+0200
TZOFFSETTO:+0100
TZNAME:CET
DTSTART:20191027T010000
END:STANDARD
BEGIN:DAYLIGHT
TZOFFSETFROM:+0100
TZOFFSETTO:+0200
TZNAME:CEST
DTSTART:20200329T010000
END:DAYLIGHT
BEGIN:STANDARD
TZOFFSETFROM:+0200
TZOFFSETTO:+0100
TZNAME:CET
DTSTART:20201025T010000
END:STANDARD
BEGIN:DAYLIGHT
TZOFFSETFROM:+0100
TZOFFSETTO:+0200
TZNAME:CEST
DTSTART:20210328T010000
END:DAYLIGHT
BEGIN:STANDARD
TZOFFSETFROM:+0200
TZOFFSETTO:+0100
TZNAME:CET
DTSTART:20211031T010000
END:STANDARD
BEGIN:DAYLIGHT
TZOFFSETFROM:+0100
TZOFFSETTO:+0200
TZNAME:CEST
DTSTART:20220327T010000
END:DAYLIGHT
BEGIN:STANDARD
TZOFFSETFROM:+0200
TZOFFSETTO:+0100
TZNAME:CET
DTSTART:20221030T010000
END:STANDARD
BEGIN:DAYLIGHT
TZOFFSETFROM:+0100
TZOFFSETTO:+0200
TZNAME:CEST
DTSTART:20230326T010000
END:DAYLIGHT
BEGIN:STANDARD
TZOFFSETFROM:+0200
TZOFFSETTO:+0100
TZNAME:CET
DTSTART:20231029T010000
END:STANDARD
BEGIN:DAYLIGHT
TZOFFSETFROM:+0100
TZOFFSETTO:+0200
TZNAME:CEST
DTSTART:20240331T010000
END:DAYLIGHT
BEGIN:STANDARD
TZOFFSETFROM:+0200
TZOFFSETTO:+0100
TZNAME:CET
DTSTART:20241027T010000
END:STANDARD
BEGIN:DAYLIGHT
TZOFFSETFROM:+0100
TZOFFSETTO:+0200
TZNAME:CEST
DTSTART:20250330T010000
END:DAYLIGHT
BEGIN:STANDARD
TZOFFSETFROM:+0200
TZOFFSETTO:+0100
TZNAME:CET
DTSTART:20251026T010000
END:STANDARD
END:VTIMEZONE
BEGIN:VEVENT
DTSTART;VALUE=DATE:20250909
DTEND;VALUE=DATE:20250910
DTSTAMP:20260423T040914
CREATED:20230424T154024Z
LAST-MODIFIED:20250902T144903Z
UID:8424-1757376000-1757462399@www.peccioli.net
SUMMARY:Visita guidata gratuita di Peccioli
DESCRIPTION:  \nTour del martedì\n  \nVISITA GUIDATA  GRATUITA DI PECCIOLI \nUn’opportunità unica per  conoscere il borgo di Peccioli e il Museo Archeologico in collaborazione con Arianna & Friends. \nOgni martedì\, in occasione del mercato settimanale\, Moira\, guida turistica esperta e appassionata\, vi porterà in giro per il centro storico alla scoperta della sua storia\, delle sue curiosità e delle sue opere di arte contemporanea \n  \nLa partecipazione\, in italiano e in inglese\, è gratuita \nI tour sono previsti tutti i martedì dal 6 maggio al 30 settembre 2025. \nIl ritrovo è alle ore 10 presso il Museo Archeologico di Peccioli. \nIl tour è a cura di Arianna & Friends\, in collaborazione con la Fondazione Peccioliper. \nPer info: 0587 672088\, 0587 936423 \n 
URL:https://www.peccioli.net/event/visita-guidata-gratuita-di-peccioli/
LOCATION:Museo Archeologico Peccioli\, Piazza del Carmine 33\, Peccioli\, 56037\, Italia
CATEGORIES:Eventi culturali,Mostre
ATTACH;FMTTYPE=image/jpeg:https://www.peccioli.net/wp-content/uploads/sites/3/2023/04/tour840x600-1-scaled.jpg
END:VEVENT
BEGIN:VEVENT
DTSTART;VALUE=DATE:20230325
DTEND;VALUE=DATE:20230326
DTSTAMP:20260423T040914
CREATED:20230320T113149Z
LAST-MODIFIED:20230320T113201Z
UID:8387-1679702400-1679788799@www.peccioli.net
SUMMARY:Inaugurazione MACCA Museo d'Arte Contemporanea a Cielo Aperto
DESCRIPTION:Il 25 marzo 2023 alle ore 11 a Peccioli verrà inaugurato il MACCA\, primo esempio di Museo d’Arte Contemporanea a Cielo Aperto diffuso sul territorio\, in continua crescita ed espansione. Questa data darà avvio ufficialmente alle attività del museo\, che in un anno così importante per Peccioli – con il suo approdo a New York e la partecipazione ad attività legate alla Biennale di Venezia – rappresenterà uno dei punti cardine della programmazione del Comune\, della Fondazione Peccioliper e di Belvedere Spa. \nIl MACCA è un’istituzione che raccoglie sotto un’unica direzione le progettualità artistiche disseminate sul territorio di Peccioli e le sue frazioni. Il museo ospita una moltitudine di opere d’arte contemporanea\, frutto di un lavoro trentennale in relazione con artisti e artiste che nel tempo sono stati invitati a sviluppare progetti in sintonia con il territorio pecciolese. \nA seguire visita delle tre nuove opere d’arte di Vittorio Corsini\, Marcella Del Signore\, Maria Perbellini-Christian Pongratz e la riapertura del Museo Archeologico con il nuovo allestimento. Vi invitiamo\, dunque\, a scoprire il nostro territorio nel cuore delle colline toscane ricco di arte\, storia e cultura\, camminando\, esplorando e lasciandovi stupire dalle sorprese che vi può riservare.
URL:https://www.peccioli.net/event/inaugurazione-macca-museo-darte-contemporanea-a-cielo-aperto/
CATEGORIES:Aperture e inaugurazioni,Eventi culturali,Eventi e mostre,Mostre,Per bambini e famiglie
ATTACH;FMTTYPE=image/jpeg:https://www.peccioli.net/wp-content/uploads/sites/3/2023/03/macca.jpg
END:VEVENT
BEGIN:VEVENT
DTSTART;VALUE=DATE:20230317
DTEND;VALUE=DATE:20230320
DTSTAMP:20260423T040914
CREATED:20230227T161317Z
LAST-MODIFIED:20230227T161525Z
UID:8376-1679011200-1679270399@www.peccioli.net
SUMMARY:Pensavo Peccioli 2023
DESCRIPTION:«Per il secondo anno consecutivo #PensavoPeccioli torna in presenza. Questo segnale di ripartenza e ritorno alla normalità dopo l’emergenza legata alla pandemia\, però\, non fa venire meno la necessità di confrontarci e riflettere. Per i tre giorni di incontri ed eventi di Pensavo Peccioli proveremo a capire cosa stia succedendo\, a noi e al mondo.\nPoco più di un anno fa una guerra scoppiata nel cuore dell’Europa ha provocato una crisi internazionale in grado di avere ricadute dirette anche sulle piccole comunità come la nostra. Organizzare un festival culturale in un piccolo borgo può sembrare un’idea insolita per affrontare questioni internazionali come la guerra in Ucraina e la crisi economica ed energetica che colpiscono molte famiglie italiane. Tuttavia Pensavo Peccioli offre da anni un’opportunità unica per creare un dialogo tra persone di diverse origini e punti di vista. Creando contemporaneamente un senso di comunità e solidarietà tra partecipanti e cittadini. In un momento in cui molte famiglie italiane stanno affrontando difficoltà economiche\, un evento che celebra l’arte e la cultura può aiutare a rafforzare il tessuto sociale e a promuovere la collaborazione tra i membri della comunità.\nIl festival è nato per discutere in una dimensione piccola e concreta i cambiamenti in atto\, nel contesto di un borgo toscano come Peccioli sempre fortemente proiettato verso il futuro. In questo contesto\, avere scrittori\, politici\, scienziati\, attrici\, editori\, giornalisti\, architetti e artisti che riflettono su questi temi è oggi più che mai significativo. Questi ospiti renderanno il programma di Pensavo Peccioli di altissimo livello e ci aiuteranno\, per un attimo\, a staccarci dagli smartphone e a riflettere con un tempo più lungo sui grandi temi della quotidianità.\nProseguiamo con l’idea che a Peccioli vogliamo sempre tenere alto il livello del dibattito culturale\, aiutandolo ad andare oltre la normale informazione quotidiana e valorizzandolo come elemento di riflessione e approfondimento più importante».\n\n\nPensavo Peccioli raccontato da Renzo Macelloni\, sindaco di #Peccioli.\n\n\nIl festival comincia il 17 marzo. Il programma e tutte le altre informazioni si trovano a questo link: https://www.pensavopeccioli.it/
URL:https://www.peccioli.net/event/pensavo-peccioli/
CATEGORIES:Eventi culturali,Mostre
ATTACH;FMTTYPE=image/jpeg:https://www.peccioli.net/wp-content/uploads/sites/3/2023/02/e0915d85-5a3f-4210-8cac-a0cb2e541e94.jpg
END:VEVENT
BEGIN:VEVENT
DTSTART;VALUE=DATE:20230106
DTEND;VALUE=DATE:20230107
DTSTAMP:20260423T040914
CREATED:20221220T084927Z
LAST-MODIFIED:20221227T085330Z
UID:7268-1672963200-1673049599@www.peccioli.net
SUMMARY:11Lune d'Inverno
DESCRIPTION:Dopo l’annullamento\, causa covid\, dell’edizione scorsa torna in presenza “11Lune d’Inverno”. Lunedì 26 dicembre e venerdì 6 gennaio una lunga serie di appuntamenti dedicati e pensati per bambini e famiglie daranno il via alla nona edizione di “11Lune d’Inverno”. \nMolte le iniziative organizzate. Il pomeriggio sarà allietato da spettacoli di strada\, laboratori\, attività ludico didattiche all’interno dei Musei\, letture alla Biblioteca Comunale\, un mercatino artigianale\, letture\, racconti e merende nelle varie attività commerciali. Scarica qui il programma \nDue sono le importanti novità che caratterizzano l’edizione 2022/2023: Palazzo Senza Tempo ospiterà alcuni spettacoli e laboratori della rassegna\, e la Passerella di Via Mazzini\, con l’opera Endless Sunset di Patrick Tuttofuoco\, diventerà palcoscenico per la prima volta di uno spettacolo di tessuti area e acrobazie. \nAnche questo anno tra i protagonisti rivedremo Marco Martinelli con il suo show tra chimica e musica\, Marco Martinelli infatti si divide tra scienza e spettacolo sin da bambino\, e in questi anni il suo progetto è creare una sintesi di questi due mondi che ha dentro. \nNuova la collaborazione con l’Ente Nazionale Giovanni Boccaccio di Certaldo che proporrà uno spettacolo teatrale ispirato ad alcune novelle tratte dal Decameron. \nConfermate le collaborazioni con importanti realtà artistiche di rilievo nazionale\, tra cui ArtCityLab\, onlus il cui scopo è far partecipare il cittadino e farlo diventare parte del processo di creazione di un’opera che riflette un’identità contemporanea\, e la Scuola di formazione dell’attore – L’Oltrarno di Firenze diretta da Pierfrancesco Favino\, che coinvolgerà piccoli e grandi in un laboratorio tra il canto e il teatro. \nCome ogni anno anche l’Accademia Musicale Alta Valdera propone due laboratori\, uno sul mondo della Disney\, e uno dedicato ai cartoni animati tratti dal libro “Il Castello delle note”\, tradotto in inglese e spagnolo durante il lockdown. \nNuova nell’ambito di 11Lune d’Inverno la collaborazione con Tagete Edizioni\, e la partecipazione di Aziz Fuad\, un artista tra i più interessanti del panorama fiorentino. \nInoltre\, numerose le associazioni locali che hanno collaborato al programma di 11Lune d’Inverno proponendo interessanti attività\, la Filarmonica di Peccioli\, Mondobimbi onlus\, gli Arcieri storici di Peccioli\, l’Associazione Astrofili Alta Valdera\, la Pro Loco\, i Commercianti di Peccioli\, l’Associazione Noi per Voi. Un’intera comunità si è messa all’opera per offrire ai bambini di tutte le età due pomeriggi di divertimento e intrattenimento senza tempo. \nPer l’edizione 2022/2023 i partecipanti di 11Lune d’Inverno riceveranno una card magnetica e uno speciale gadget.
URL:https://www.peccioli.net/event/11-lune-dinverno-2/
CATEGORIES:11 Lune a Peccioli,11 Lune d'Inverno,Eventi culturali,Eventi e mostre,Mostre,Per bambini e famiglie
ATTACH;FMTTYPE=image/jpeg:https://www.peccioli.net/wp-content/uploads/sites/3/2022/12/11Lune-dInverno-2022-23-copertina-web.jpg
END:VEVENT
BEGIN:VEVENT
DTSTART;VALUE=DATE:20221208
DTEND;VALUE=DATE:20221212
DTSTAMP:20260423T040914
CREATED:20221206T115615Z
LAST-MODIFIED:20221206T120319Z
UID:7077-1670457600-1670803199@www.peccioli.net
SUMMARY:A Natale libri per te Incontri con gli autori
DESCRIPTION:Anche per questa edizione l’iniziativa 𝐀 𝐍𝐚𝐭𝐚𝐥𝐞 𝐥𝐢𝐛𝐫𝐢 𝐩𝐞𝐫 𝐭𝐞! sarà arricchita da una serie di incontri da non perdere a cura di Luca Sofri. \nLa serie di incontri associata all’iniziativa A Natale libri per te è un progetto della Fondazione Peccioliper introdotto già nel 2020 per incentivare l’acquisto dei libri che ha coinvolto undici librerie e una casa editrice del territorio. \nTutte le presentazioni si svolgeranno presso la caffetteria “Gelso d’Oro” all’interno del Palazzo senza Tempo. L’ingresso è libero senza prenotazione \nDi seguito il calendario: \nGiovedì 8 dicembre ore 15 \nPaolo Roversi \nElementare\, Ricky \nIncontro con i giovani lettori dedicato al giallo \nGiovedì 8 dicembre ore 17 \nPif  \nLa disperata ricerca d’amore di un povero idiota (Feltrinelli) \ncon Giacomo Papi \nGiovedì 8 dicembre ore 18.30 \nFrancesco Costa  \nCalifornia (Mondadori) \ncon Luca Sofri \nVenerdì 9 dicembre ore 17 \nIvan Scalfarotto \nLa versione di Ivan (La Nave di Teseo) \ncon Luca Sofri \nVenerdì 9 dicembre ore 18.30 \nOscar Farinetti \nE’ nata prima la gallina… forse (Slow Food editore) \ncon Luca Sofri \nVenerdì 9 dicembre ore 21 \nCesare Picco \npiano\, keyboards\, electronics \nDreams are made of this \nViaggio nei suoni della notte \nSabato 10 dicembre ore 10.30 \nI giornali\, spiegati bene \nLa rassegna stampa del Post \nCon Luca Sofri e Concita De Gregorio \nSabato 10 dicembre ore 12 \nConcita De Gregorio \nUn’ultima cosa (Feltrinelli) \nSabato 10 dicembre ore 15 \nMichela Murgia  \nGod save the queer. Catechismo femminista (Einaudi) \ncon Luca Sofri \nSabato 10 dicembre ore 16.30 \nCose spiegate bene  \nE giustizia per tutti (Iperborea) \nCon Rosa Alba Casella\, Ivan Scalfarotto e Luca Sofri \nSabato 10 dicembre ore 18 \nPaolo Bonolis  \nNotte fonda (Rizzoli) \nCon Alessandra Tedesco \nDomenica 11 dicembre ore 10.30 \nI giornali\, spiegati bene \nLa rassegna stampa del Post \nCon Luca Sofri e Matteo Bordone \nDomenica 11 dicembre ore 12 \nErling Kagge  \ncon Matteo Bordone \nin collaborazione con Più libri più liberi \nDomenica 11 dicembre ore 15 \nMatteo Caccia \nVoci che sono la mia (Il Saggiatore) \nIn dialogo con Luca Sofri \nDomenica 11 dicembre ore 17 \nDaria Bignardi \nLibri che mi hanno rovinato la vita (Einaudi) \nIn dialogo con Luca Sofri \n 
URL:https://www.peccioli.net/event/a-natale-un-libro-per-te-incontri-con-gli-autori/
LOCATION:Palazzo Senza Tempo\, Via Carraia 1\, Peccioli\, PI\, Italia
CATEGORIES:Eventi culturali,Mostre,Per bambini e famiglie
ATTACH;FMTTYPE=image/jpeg:https://www.peccioli.net/wp-content/uploads/sites/3/2022/12/WhatsApp-Image-2022-11-25-at-12.32.43.jpeg
END:VEVENT
BEGIN:VEVENT
DTSTART;VALUE=DATE:20221119
DTEND;VALUE=DATE:20230224
DTSTAMP:20260423T040914
CREATED:20221108T110314Z
LAST-MODIFIED:20221123T110915Z
UID:6438-1668816000-1677196799@www.peccioli.net
SUMMARY:Mostra Alessandro Ciulli
DESCRIPTION:ALESSANDRO CIULLI \nI COLORI DEL SILENZIO \nA Palazzo Senza Tempo una mostra dedicata al pittore di Fabbrica \nPECCIOLI. Sabato 19 novembre\, alle ore 18\, nelle sale di Palazzo Senza Tempo di Peccioli\, si inaugurerà la mostra Alessandro Ciulli. I colori del silenzio\, a cura di Alberto Mugnaini. La mostra è promossa e prodotta dalla Fondazione Peccioliper e dal Comune di Peccioli\, con il contributo della Casa di Alessandro. \nIl Comune di Peccioli\, a partire dagli anni Novanta\, si è distinto per aver promosso una politica culturale diretta a convocare in modo permanente sul suo territorio le opere dei più rinomati artisti italiani e internazionali\, da Alberto Garutti a Hidetoshi Nagasawa\, da Patrick Tuttofuoco a David Tremlett\, Da Vittorio Corsini a Jeppe Hein\, da Remo Salvadori ad Adrian Paci\, da Marco Tirelli a Daniel Buren. \nDopo essere stato tramite e punto di incontro di tanti talenti venuti da fuori\, il comune di Peccioli è orgoglioso di poter ospitare la mostra di un artista nato e cresciuto nel suo territorio\, la cui opera\, praticamente inedita e circolata solo tra collezionisti locali\, costituirà retrospettivamente una sorprendente new entry nel novero delle più avanzate ricerche della pittura italiana nel periodo che va dalla fine degli anni Settanta all’inizio del secondo decennio del nostro secolo. \nAlessandro Ciulli\, nato il 7 aprile 1951\, a parte alcuni sporadici spostamenti in giovane età\, ha sempre vissuto a Fabbrica di Peccioli\, fino alla sua scomparsa\, avvenuta il 1° aprile 2012. \nDopo aver frequentato La Scuola d’Arte di Cascina (PI)\, ed essersi iscritto alla facoltà di Lettere dell’Università di Pisa\, ha definitivamente intrapreso la carriera artistica proseguendo i suoi studi da autodidatta e lavorando indefessamente e ininterrottamente fino al momento della morte\, lasciando parecchie centinaia di dipinti e alcune migliaia di schizzi\, disegni e bozzetti. \nLa mostra è corredata da uno studio monografico di Alberto Mugnaini\, I colori del silenzio. Vita e opere di Alessandro Ciulli\, in cui si cerca di ricostruire i momenti salienti della vita e del percorso artistico di Ciulli\, e di mettere in evidenza la sua assoluta originalità nel forgiarsi uno stile che prende le mosse da un’attenta rilettura delle opere di campioni del Modernismo quali Fernand Léger e Paul Klee per approdare a una sua personale concezione fra il neo-primitivo e il metafisico\, in una paradossale ma perfetta sintonia cronologica con le più celebrate espressioni pittoriche del Postmoderno. \nLa mostra sarà aperta fino al 28 febbraio 2023\, tutti i giorni dalle 9 alle 20
URL:https://www.peccioli.net/event/inaugurazione-mostra-alessandro-ciulli/
CATEGORIES:Eventi culturali,Mostre
ATTACH;FMTTYPE=image/jpeg:https://www.peccioli.net/wp-content/uploads/sites/3/2022/11/mostra-ciulli-scaled.jpg
END:VEVENT
BEGIN:VEVENT
DTSTART;VALUE=DATE:20221113
DTEND;VALUE=DATE:20221201
DTSTAMP:20260423T040914
CREATED:20221108T112744Z
LAST-MODIFIED:20221123T110949Z
UID:6441-1668297600-1669852799@www.peccioli.net
SUMMARY:Mostra fotografica di "Sapori senza Tempo"
DESCRIPTION:Sapori Senza Tempo\, ecco la mostra fotografica per ripercorrere i momenti più significativi del progetto di DiverCity legato al bando “Energie Sociali“. \nCome si contrasta il vuoto che crea la distanza della nostra cultura della tradizione\, sempre meno insegnata e considerata? Come si mitiga la solitudine dei nostri anziani\, che vedono le attività sociali più stimolanti lasciare i loro paesi alle volta delle grandi città? Per rispondere a questo interrogativo l’associazione DiverCity ha pensato al progetto\, per altro vincitore del bando “Energie Sociali” promosso dal Comune di Lajatico e dal Comune di Peccioli con Belvedere Spa\, Sapori Senza Tempo. \nUn corso di cucina intergenerazionale nel quale giovani e anziani hanno potuto riscoprire i sapori più tradizionali ed esplorare i più innovativi in una serie di 6 incontri che si sono tenuti ogni due settimane tra i paesi di Peccioli e Lajatico. \nUn’ esperienza unica a cavallo tra passato e presente che\, grazie alla proficua collaborazione con la Fondazione Peccioliper\, vedrà una sua nuova appendice con una mostra fotografica che verrà inaugurata domenica 13 novembre dalle 17 al Palazzo Senza Tempo. Questa fase finale di condivisione sarà anche l’occasione per tutto il Paese di accedere a tante ricette portatrici di cultura e tradizione che rischiano troppo spesso di andare perdute\, e scoprirne anche alcune più attente alle esigenze odierne\, come allergie più diffuse e impatto ambientale\, forse talvolta ingiustamente sottovalutate.
URL:https://www.peccioli.net/event/inaugurazione-mostra-fotografica-di-sapori-senza-tempo/
CATEGORIES:Eventi culturali,Mostre,Per bambini e famiglie
ATTACH;FMTTYPE=image/jpeg:https://www.peccioli.net/wp-content/uploads/sites/3/2022/11/locandina-mostra-SST-DC.jpeg
END:VEVENT
BEGIN:VEVENT
DTSTART;VALUE=DATE:20221025
DTEND;VALUE=DATE:20221118
DTSTAMP:20260423T040914
CREATED:20221026T135001Z
LAST-MODIFIED:20221026T142503Z
UID:6372-1666656000-1668729599@www.peccioli.net
SUMMARY:Peccioli.....e intorno l'Universo
DESCRIPTION:Cieli stellati\, Aurore Boreali e Vulcani\, Eclissi di Sole e Meteoriti! \nTorna l’appuntamento per gli appassionati di astronomia \n  \nPeccioli… e intorno l’Universo festeggia quindici anni con un intenso programma di iniziative all’Osservatorio Astronomico di Libbiano e una conferenza al Centro Polivalente. \nIl prossimo 25 ottobre sarà visibile anche in Italia un’importante eclissi solare\, un evento che promette di essere molto interessante perché il diametro del Sole verrà coperto sarà di poco inferiore a un terzo del totale (il 27% per la precisione). Il primo appuntamento pertanto sarà martedì 25 ottobre alle ore 10.30 presso il Centro Astronomico di Libbiano con l’osservazione dell’eclissi parziale di Sole che avrà inizio alle 11.22 e terminerà alle 13.14 (ora locale). \nGiovedì 3 e venerdì 4 novembre alle ore 9.45 il Centro Astronomico apre le porte alle scolaresche con una vista guidata \nVenerdì 4 e giovedì 17 novembre alle ore 21.15 torna il tradizionale appuntamento con l’osservazione pubblica presso il Centro Astronomico con i telescopi della AAAV \nSabato 5 e domenica 6 novembre dalle ore 10 alle 13 sarà possibile partecipare ad una visita guidata con osservazione del Sole \nPer tutti gli eventi la prenotazione è obbligatoria 0587 672158 \nPresso il Centro Astronomico di Libbiano sarà inoltre allestita la tradizionale mostra di astronomia\, dedicata alla collezione di meteoriti\, curata dall’Associazione Astrofili Alta Valdera. \n  \nPeccioli… e intorno l’Universo 2022 si trasferisce sabato 5 novembre alle ore 21.15 presso il Centro Polivalente di Peccioli con la conferenza a cura di Sabrina Mugnos dal titolo “Sulle rotte del ghiaccio e del fuoco”. Sabrina Mugnos si è laureata in geologia con indirizzo geochimico-vulcanologico presso l’Università degli Studi di Pisa. Giornalista freelance e divulgatrice scientifica di lunga esperienza\, ha al suo attivo numerose pubblicazioni\, che spaziano dalle tematiche geologiche a quelle astronomiche\, fisiche\, archeologiche e meteorologiche. Assidua viaggiatrice ed esploratrice\, ha sempre le valigie pronte quando il mondo naturale entra in fermento. Durante la conferenza saranno presentati i suoi ultimi libri Atlante del Grande Nord. Alla scoperta di aurore\, miti e paesaggi misteriosi (2022) e Draghi sepolti. Viaggio scientifico e sentimentale tra i vulcani d’Italia (2020) \n  \nIl programma completo della manifestazione è consultabile su www.fondarte.peccioli.net e su www.astrofilialtavaldera.it (info: 340 5915239). \n  \nLa partecipazione agli eventi è gratuita. \nPer gli eventi al Centro Astronomico di Libbiano è obbligatori la prenotazione (telefonando allo 0587 672158). \nLa mostra presso il Centro Astronomico di Libbiano è visitabile in occasione degli appuntamenti in programma a Libbiano. \nPer la conferenza di Sabrina Mugnos al Centro Polivalente di Peccioli l’ingresso è libero senza prenotazione.
URL:https://www.peccioli.net/event/peccioli-e-intorno-luniverso/
LOCATION:Osservatorio Astronomico Libbiano
CATEGORIES:Eventi culturali,Mostre,Per bambini e famiglie
ATTACH;FMTTYPE=image/jpeg:https://www.peccioli.net/wp-content/uploads/sites/3/2022/10/Peccioli-Universo_sito22-scaled.jpg
END:VEVENT
BEGIN:VEVENT
DTSTART;TZID=Europe/Rome:20221008T100000
DTEND;TZID=Europe/Rome:20221008T120000
DTSTAMP:20260423T040914
CREATED:20220922T123526Z
LAST-MODIFIED:20220922T123526Z
UID:6201-1665223200-1665230400@www.peccioli.net
SUMMARY:Tempo di Osservazione
DESCRIPTION:Un percorso guidato tra le opere d’arte contemporanea del Palazzo Senza Tempo di Peccioli\n  \nSabato 8 ottobre dalle ore 10 alle 12\, in occasione della diciottesima Giornata Contemporaneo\, sarà organizzato Tempo di Osservazione\, un percorso guidato tra le opere d’arte contemporanea del Palazzo Senza Tempo di Peccioli. \nTempo di osservazione è una passeggiata attraverso le opere d’arte contemporanea del Palazzo Senza Tempo di Peccioli\, che vuole dare valore proprio al tempo di osservazione che un’opera richiede. Attraverso l’aiuto di una guida si affronterà una piccola camminata che dia la possibilità di soffermarsi sulle opere presenti. Il pubblico sarà invitato a guardare\, comprendere e addentrarsi nelle opere\, condividendo opinioni e impressioni dovute a un tempo di visione sufficiente per capire quello che le opere vogliono dire. \nIl tempo di osservazione è un tempo personale\, può essere breve\, lungo\, molto lungo. Se questo\, poi\, è legato all’osservazione di un’opera d’arte diventa ancora più intenso\, più peculiare. E ancora\, da tempo personale ha la capacità di diventare collettivo e comune\, quindi condivisibile. \nPhoto-souvenirs A 45°\, 5 colori + nero e bianco di Daniel Buren\, Dai su fammi un sorriso e Ma che voglia di prenderti per mano di Vittorio Corsini e Senza Titolo di Jeppe Hein\, saranno protagoniste di questa osservazione. L’intento del percorso è quello di non fermarsi alla mera spiegazione dell’opera d’arte\, ma di comprenderla e guardarla da più punti di vista\, compreso quello della suggestiva terrazza del Palazzo\, poi condivisi tra i partecipanti. \nLa partecipazione è gratuita.  \nGradita la prenotazione inviando una mail a info@fondarte.peccioli.net\, oppure telefonando allo 0587 672158 \nRitrovo presso l’Ufficio Turistico di Peccioli (Piazza del Popolo\, 5) alle ore 10
URL:https://www.peccioli.net/event/tempo-di-osservazione/
LOCATION:Peccioli\, Italia
CATEGORIES:Eventi culturali,Eventi e mostre,Mostre
ATTACH;FMTTYPE=image/jpeg:https://www.peccioli.net/wp-content/uploads/sites/3/2022/09/tempo-di-osservazione-scaled.jpg
END:VEVENT
BEGIN:VEVENT
DTSTART;VALUE=DATE:20210310
DTEND;VALUE=DATE:20210325
DTSTAMP:20260423T040914
CREATED:20210316T091229Z
LAST-MODIFIED:20210316T091229Z
UID:838-1615334400-1616630399@www.peccioli.net
SUMMARY:Vegetali & Quali. Mostra online di Riccardo Guasco
DESCRIPTION:Dopo i maestri del fumetto quali Carnevali\, Crepax e Jacovitti\, “Peccioli per piccoli” chiude con Riccardo Guasco le mostre interattive digitali\, curate da Cristoforo Moretti. \n“Vegetali & Quali” è la mostra visitabile online dal 10 al 24 marzo dedicata ai colori e alle forme di un artista poliedrico\, che sicuramente ispirerà i bambini mostrando come un qualunque oggetto (nel caso nostro\, ortaggi\, fiori\, frutta e foglie) possa diventare protagonista di una immagine con il piccolo aiuto di un segno grafico. \nRiccardo Guasco (Alessandria\, 1975) è illustratore e pittore. Ha collaborato con The New Yorker\, Eni\, TIM\, Diesel\, Rizzoli\, Baldini & Castoldi\, Poste Italiane\, Campo Viejo\, Giunti\, Moleskine\, Rapha\, Thames & Hudson\, DeAgostini\, Longines\, Sole24Ore\, Emergency\, Greenpeace\, RAI e L’Espresso. Influenzato dai grandi pittori ed illustratori del primo Novecento\, utilizza il manifesto come mezzo di comunicazione\, mescolando poesia e ironia per creare immagini che aiutano il morale. I suoi disegni appaiono su campagne pubblicitarie\, riviste\, libri\, cappelli\, biciclette\, bottiglie… E vegetali. \nPer visitare la mostra è sufficiente andare sul sito della Fondazione Peccioliper a questo link http://www.fondarte.peccioli.net/mostre.php
URL:https://www.peccioli.net/event/vegetali-quali-mostra-online-di-riccardo-guasco/
CATEGORIES:Eventi e mostre,Mostre
ATTACH;FMTTYPE=image/jpeg:https://www.peccioli.net/wp-content/uploads/sites/3/2021/03/Vegetali-quali-orizz.jpg
END:VEVENT
BEGIN:VEVENT
DTSTART;TZID=Europe/Rome:20191004T160000
DTEND;TZID=Europe/Rome:20191004T180000
DTSTAMP:20260423T040914
CREATED:20210316T091514Z
LAST-MODIFIED:20210319T145454Z
UID:841-1570204800-1570212000@www.peccioli.net
SUMMARY:Sette luoghi\, sette autori\, sette installazioni nella Toscana più autentica
DESCRIPTION:Vittorio Corsini con Fabio Genovesi \nUn progetto di Vittorio Corsini per il Comune di Peccioli in collaborazione con Fondazione Peccioliper\nProgetto editoriale a cura di Sandra Furlan\nIn collaborazione con EMONS libriEaudiolibri\nInaugurazione venerdì 4 ottobre 2019\, Peccioli\, Cinema Passerotti\, alle ore 18\,30 \nVenerdì 4 ottobre inaugura a Peccioli la seconda tappa di VOCI\, un progetto di Vittorio Corsini per il Comune di Peccioli in collaborazione con la Fondazione Peccioliper. \nVOCI nasce dalla volontà di creare all’interno del territorio del Comune di Peccioli un percorso artistico-letterario che partendo dalla cittadina toscana raggiunge i borghi circostanti portando i visitatori alla scoperta di luoghi nuovi e inesplorati. Il progetto si colloca all’interno di una più ampia strategia culturale\, iniziata alla fine degli anni Novanta e mai interrotta\, che ha visto Peccioli e tutto il suo territorio arricchirsi diventando un luogo privilegiato per il linguaggio del contemporaneo. Dopo la realizzazione nel 2018 di sei installazioni permanenti nate dalla collaborazione tra l’artista Vittorio Corsini e alcuni noti scrittori italiani – Laura Bosio\, Mauro Covacich\, Maurizio de Giovanni\, Romano De Marco\, Ferruccio Parazzoli\, Laura Pugno – VOCI si arricchisce di una nuova opera permanente. \nIn questa seconda edizione del progetto la scrittura del racconto è affidata a Fabio Genovesi. \nSabato 5 ottobre a partire dalla ore 15.00 sarà attivo un bus-navetta gratuito (su prenotazione) per visitare le sette opere permanenti realizzate per VOCI: Campanile della Chiesa di San Verano\, Piazza del Popolo\, Peccioli; Chiesa del Carmine\, Piazza del Carmine\, Peccioli; Cinema Passerotti\, viale Mazzini\, Peccioli; Oratorio della Santissima Annunziata\, Via Santa Maria\, Ghizzano; Chiesa di San Giorgio\, Via di Cedri\, Cedri; Chiesa dei Santi Rocco e Sebastiano\, Via Vittorio Veneto\, Fabbrica; Chiesa delle Serre\, Le Serre\, Peccioli. \nPer informazioni e prenotazione bus-navetta: \nFondazione Peccioliper\, tel 0587 672158\, da lunedì a venerdì 9-13 / 15-17; info@fondarte.peccioli.net; www.fondarte.peccioli.net;\nUfficio informazioni e accoglienza turistica del Comune di Peccioli\, tel. 0587 936423\, martedì\, giovedì\, venerdì 10-13 e mercoledì\, sabato\, domenica 10-13 /15-17
URL:https://www.peccioli.net/event/sette-luoghi-sette-autori-sette-installazioni-nella-toscana-piu-autentica/
CATEGORIES:Eventi e mostre,Mostre
ATTACH;FMTTYPE=image/jpeg:https://www.peccioli.net/wp-content/uploads/sites/3/2021/03/Slider_FB-Voci-scaled.jpg
END:VEVENT
END:VCALENDAR