BEGIN:VCALENDAR
VERSION:2.0
PRODID:-//peccioli.net - ECPv5.8.1//NONSGML v1.0//EN
CALSCALE:GREGORIAN
METHOD:PUBLISH
X-WR-CALNAME:peccioli.net
X-ORIGINAL-URL:https://www.peccioli.net
X-WR-CALDESC:Eventi per peccioli.net
BEGIN:VTIMEZONE
TZID:Europe/Rome
BEGIN:DAYLIGHT
TZOFFSETFROM:+0100
TZOFFSETTO:+0200
TZNAME:CEST
DTSTART:20210328T010000
END:DAYLIGHT
BEGIN:STANDARD
TZOFFSETFROM:+0200
TZOFFSETTO:+0100
TZNAME:CET
DTSTART:20211031T010000
END:STANDARD
END:VTIMEZONE
BEGIN:VEVENT
DTSTART;VALUE=DATE:20210602
DTEND;VALUE=DATE:20210603
DTSTAMP:20260425T045248
CREATED:20210603T125848Z
LAST-MODIFIED:20210603T141833Z
UID:5027-1622592000-1622678399@www.peccioli.net
SUMMARY:Apertura Piscina - Stagione estiva 2021
DESCRIPTION:Riparte il 2 giugno\, la stagione estiva alla piscina comunale di Peccioli.\nℹ Per informazioni\, orari e tariffe di ingresso è possibile contattare Uisp Valdera che gestisce l’impianto telefonando al numero 388 4005270 oppure attraverso la pagina Facebook Piscina Comunale Di Peccioli
URL:https://www.peccioli.net/event/apertura-piscina-stagione-estiva-2021/
LOCATION:Piscina Comunale di Peccioli\, Viale Antonio Gramsci\, 47\, Peccioli\, 56037\, Italia
CATEGORIES:Aperture e inaugurazioni,Per bambini e famiglie,Sport
ATTACH;FMTTYPE=image/jpeg:https://www.peccioli.net/wp-content/uploads/sites/3/2021/06/21016041_269479073546636_7206874124685375081_o.jpg
END:VEVENT
BEGIN:VEVENT
DTSTART;TZID=Europe/Rome:20210605T080000
DTEND;TZID=Europe/Rome:20210605T140000
DTSTAMP:20260425T045248
CREATED:20210601T062451Z
LAST-MODIFIED:20210601T062600Z
UID:4937-1622880000-1622901600@www.peccioli.net
SUMMARY:Escursione in mountain bike e in e-bike sulle colline di Peccioli
DESCRIPTION:Il percorso si snoderà tra crinali\, ruscelli\, chiesette\, poderi\, vigneti e regalerà bellissimi panorami sulle colline circostanti. Partiremo dall’Anfiteatro di Fonte Mazzola e\, con un giro ad anello\, attraverseremo prima la ex-tenuta Fondi Rustici\, poi alcune frazioni del comune di Peccioli e pedaleremo anche attorno alla discarica di Legoli\, che potremo osservare dall’alto. Lungo il percorso vedremo anche l’Osservatorio Astronomico di Libbiano. Attraversando da nord l’abitato di Peccioli\, completeremo il percorso e torneremo al punto di partenza.\nDifficoltà tecnica: MC/MC Dislivello: 750 m Lunghezza: 40 km \nInformazioni\, contatti e iscrizioni sul sito www.caipontedera.it
URL:https://www.peccioli.net/event/escursione-in-mountain-bike-e-in-e-bike-sulle-colline-di-peccioli/
LOCATION:Le Serre\, Str. Vicinale delle Serre\, 100\, Peccioli\, PI\, 56037\, Italia
CATEGORIES:Sport
ATTACH;FMTTYPE=image/jpeg:https://www.peccioli.net/wp-content/uploads/sites/3/2021/03/MAV_0754-scaled.jpg
END:VEVENT
BEGIN:VEVENT
DTSTART;TZID=Europe/Rome:20210611T183000
DTEND;TZID=Europe/Rome:20210611T200000
DTSTAMP:20260425T045248
CREATED:20210603T124945Z
LAST-MODIFIED:20210603T125311Z
UID:5020-1623436200-1623441600@www.peccioli.net
SUMMARY:Inaugurazione dell'opera "Giudizio Universale" di Nicola Boccini
DESCRIPTION:Venerdì 11 giugno alle ore 18.30 sarà inaugurata a Legoli presso la Chiesa dei Santi Giusto e Bartolomeo l’opera di ceramica contemporanea il “Giudizio Universale” di Nicola Boccini. \nIl “Giudizio Universale” è un’istallazione multimediale in ceramica dell’artista umbro\, ispirata all’omonimo polittico di Hans Memling\, datato 1467 circa\, e commissionata nel 2016 dal Museo Nazionale di Danzica come reinterpretazione del capolavoro lì conservato. \nPer saperne di più: http://fondarte.peccioli.net/slide.php?id=214
URL:https://www.peccioli.net/event/inaugurazione-opera-giudizio-universale-di-nicola-boccini/
LOCATION:Chiesa dei Santi Giusto e Bartolomeo\, Legoli\, Legoli\, PI\, 56037\, Italia
CATEGORIES:Aperture e inaugurazioni,Eventi culturali
ATTACH;FMTTYPE=image/jpeg:https://www.peccioli.net/wp-content/uploads/sites/3/2021/06/Sito.jpg
END:VEVENT
BEGIN:VEVENT
DTSTART;VALUE=DATE:20210615
DTEND;VALUE=DATE:20210616
DTSTAMP:20260425T045248
CREATED:20210601T063143Z
LAST-MODIFIED:20210616T104823Z
UID:4940-1623715200-1623801599@www.peccioli.net
SUMMARY:Parco Preistorico di Peccioli - Apertura 2021
DESCRIPTION:Il Parco Preistorico di Peccioli riapre il 15 giugno 2021. \nPer informazioni e contatti: \n\nSito Ufficiale\nPagina Facebook Ufficiale
URL:https://www.peccioli.net/event/parco-preistorico-di-peccioli-apertura-2021/
LOCATION:Parco Preistorico di Peccioli\, Via dei Cappuccini\, 70\, Peccioli\, PI\, 56037\, Italia
CATEGORIES:Aperture e inaugurazioni,Per bambini e famiglie
ATTACH;FMTTYPE=image/png:https://www.peccioli.net/wp-content/uploads/sites/3/2021/06/191322626_1181142962405728_7214446049659265108_n.png
END:VEVENT
END:VCALENDAR